BEGIN:VCALENDAR
VERSION:2.0
PRODID:-//For Happy People &amp; Co - ECPv6.0.10//NONSGML v1.0//EN
CALSCALE:GREGORIAN
METHOD:PUBLISH
X-ORIGINAL-URL:https://forhappypeopleandco.com
X-WR-CALDESC:évènements pour For Happy People &amp; Co
REFRESH-INTERVAL;VALUE=DURATION:PT1H
X-Robots-Tag:noindex
X-PUBLISHED-TTL:PT1H
BEGIN:VTIMEZONE
TZID:Europe/Paris
BEGIN:DAYLIGHT
TZOFFSETFROM:+0100
TZOFFSETTO:+0200
TZNAME:CEST
DTSTART:20250330T010000
END:DAYLIGHT
BEGIN:STANDARD
TZOFFSETFROM:+0200
TZOFFSETTO:+0100
TZNAME:CET
DTSTART:20251026T010000
END:STANDARD
END:VTIMEZONE
BEGIN:VEVENT
DTSTART;TZID=Europe/Paris:20251216T200000
DTEND;TZID=Europe/Paris:20251218T210000
DTSTAMP:20260423T001329
CREATED:20250508T153236Z
LAST-MODIFIED:20250808T085253Z
UID:10000606-1765915200-1766091600@forhappypeopleandco.com
SUMMARY:Conversation entre Jean Ordinaires (Mulhouse)
DESCRIPTION:
URL:https://forhappypeopleandco.com/representation/conversation-entre-jean-ordinaires-mulhouse-2/
LOCATION:La Filature\, Scène nationale (Mulhouse\, 68)\, 20 Allée Nathan Katz\,\, Mulhouse\, 68090\, France
ATTACH;FMTTYPE=image/jpeg:https://forhappypeopleandco.com/wp-content/uploads/2022/04/Credit-Christophe-Raynaud-de-Lage-26-scaled.jpg
END:VEVENT
BEGIN:VEVENT
DTSTART;TZID=Europe/Paris:20251217T200000
DTEND;TZID=Europe/Paris:20251217T210000
DTSTAMP:20260423T001329
CREATED:20250508T151641Z
LAST-MODIFIED:20250508T153359Z
UID:10000599-1766001600-1766005200@forhappypeopleandco.com
SUMMARY:Conversation entre Jean Ordinaires (Mulhouse)
DESCRIPTION:
URL:https://forhappypeopleandco.com/representation/conversation-entre-jean-ordinaires-mulhouse/
LOCATION:La Filature\, Scène nationale (Mulhouse\, 68)\, 20 Allée Nathan Katz\,\, Mulhouse\, 68090\, France
ATTACH;FMTTYPE=image/jpeg:https://forhappypeopleandco.com/wp-content/uploads/2022/04/Credit-Christophe-Raynaud-de-Lage-26-scaled.jpg
END:VEVENT
END:VCALENDAR